BEGIN:VCALENDAR
VERSION:2.0
PRODID:-//AWO Laudenbach e.V. - ECPv6.15.20//NONSGML v1.0//EN
CALSCALE:GREGORIAN
METHOD:PUBLISH
X-ORIGINAL-URL:https://www.awo-laudenbach.de
X-WR-CALDESC:Veranstaltungen für AWO Laudenbach e.V.
REFRESH-INTERVAL;VALUE=DURATION:PT1H
X-Robots-Tag:noindex
X-PUBLISHED-TTL:PT1H
BEGIN:VTIMEZONE
TZID:Europe/Berlin
BEGIN:DAYLIGHT
TZOFFSETFROM:+0100
TZOFFSETTO:+0200
TZNAME:CEST
DTSTART:20250330T010000
END:DAYLIGHT
BEGIN:STANDARD
TZOFFSETFROM:+0200
TZOFFSETTO:+0100
TZNAME:CET
DTSTART:20251026T010000
END:STANDARD
BEGIN:DAYLIGHT
TZOFFSETFROM:+0100
TZOFFSETTO:+0200
TZNAME:CEST
DTSTART:20260329T010000
END:DAYLIGHT
BEGIN:STANDARD
TZOFFSETFROM:+0200
TZOFFSETTO:+0100
TZNAME:CET
DTSTART:20261025T010000
END:STANDARD
BEGIN:DAYLIGHT
TZOFFSETFROM:+0100
TZOFFSETTO:+0200
TZNAME:CEST
DTSTART:20270328T010000
END:DAYLIGHT
BEGIN:STANDARD
TZOFFSETFROM:+0200
TZOFFSETTO:+0100
TZNAME:CET
DTSTART:20271031T010000
END:STANDARD
END:VTIMEZONE
BEGIN:VEVENT
DTSTART;TZID=Europe/Berlin:20260212T140000
DTEND;TZID=Europe/Berlin:20260212T170000
DTSTAMP:20260422T125455
CREATED:20250927T142148Z
LAST-MODIFIED:20250927T142150Z
UID:6619-1770904800-1770915600@www.awo-laudenbach.de
SUMMARY:AWO-Seniorentreff
DESCRIPTION:Mit dem Leitsatz „Donnerstag ist AWO-Tag“ lädt der Ortsverein der Arbeiterwohlfahrt zum offenen Seniorentreff in das Georg-Bickel-Haus ein. \n\n\n\nNach der traditionellen Seniorengymnastik serviert Gastgeberin Helga Gumpert wie gewohnt Kaffee und Kuchen. Mit zahlreichen Spielangeboten oder auch zwanglosen Gesprächen wird der Nachmittag\, zu dem alle Senioren im Ort willkommen sind\, gestaltet. Zur besseren Vorbereitung wird um Anmeldung bei Helga Gumpert\, Telefon 06201-44436\, gebeten.
URL:https://www.awo-laudenbach.de/event/awo-seniorentreff-19-2/
LOCATION:Georg-Bickel-Haus\, Weimarer Straße 3\, Laudenbach\, 69514\, Deutschland
CATEGORIES:Seniorentreff
ATTACH;FMTTYPE=image/png:https://www.awo-laudenbach.de/wp-content/uploads/2023/09/AWO_Seniorentreff.png
END:VEVENT
END:VCALENDAR