BEGIN:VCALENDAR
VERSION:2.0
PRODID:-//AWO Laudenbach e.V. - ECPv6.15.20//NONSGML v1.0//EN
CALSCALE:GREGORIAN
METHOD:PUBLISH
X-WR-CALNAME:AWO Laudenbach e.V.
X-ORIGINAL-URL:https://www.awo-laudenbach.de
X-WR-CALDESC:Veranstaltungen für AWO Laudenbach e.V.
REFRESH-INTERVAL;VALUE=DURATION:PT1H
X-Robots-Tag:noindex
X-PUBLISHED-TTL:PT1H
BEGIN:VTIMEZONE
TZID:Europe/Berlin
BEGIN:DAYLIGHT
TZOFFSETFROM:+0100
TZOFFSETTO:+0200
TZNAME:CEST
DTSTART:20220327T010000
END:DAYLIGHT
BEGIN:STANDARD
TZOFFSETFROM:+0200
TZOFFSETTO:+0100
TZNAME:CET
DTSTART:20221030T010000
END:STANDARD
BEGIN:DAYLIGHT
TZOFFSETFROM:+0100
TZOFFSETTO:+0200
TZNAME:CEST
DTSTART:20230326T010000
END:DAYLIGHT
BEGIN:STANDARD
TZOFFSETFROM:+0200
TZOFFSETTO:+0100
TZNAME:CET
DTSTART:20231029T010000
END:STANDARD
BEGIN:DAYLIGHT
TZOFFSETFROM:+0100
TZOFFSETTO:+0200
TZNAME:CEST
DTSTART:20240331T010000
END:DAYLIGHT
BEGIN:STANDARD
TZOFFSETFROM:+0200
TZOFFSETTO:+0100
TZNAME:CET
DTSTART:20241027T010000
END:STANDARD
END:VTIMEZONE
BEGIN:VEVENT
DTSTART;TZID=Europe/Berlin:20231214T140000
DTEND;TZID=Europe/Berlin:20231214T140000
DTSTAMP:20260424T094146
CREATED:20221209T184537Z
LAST-MODIFIED:20221209T184539Z
UID:4778-1702562400-1702562400@www.awo-laudenbach.de
SUMMARY:AWO Senioren-Weihnachtsfeier
DESCRIPTION:Weihnachtsfeier der AWO Laudenbach im Georg-Bickel-Haus.
URL:https://www.awo-laudenbach.de/event/awo-senioren-weihnachtsfeier-2/
LOCATION:Georg-Bickel-Haus\, Weimarer Straße 3\, Laudenbach\, 69514\, Deutschland
CATEGORIES:AWO Weihnachtsfeier
ATTACH;FMTTYPE=image/jpeg:https://www.awo-laudenbach.de/wp-content/uploads/2020/02/christmas-tree-1149619_1920.jpg
END:VEVENT
END:VCALENDAR