BEGIN:VCALENDAR
VERSION:2.0
PRODID:-//AWO Laudenbach e.V. - ECPv6.15.20//NONSGML v1.0//EN
CALSCALE:GREGORIAN
METHOD:PUBLISH
X-WR-CALNAME:AWO Laudenbach e.V.
X-ORIGINAL-URL:https://www.awo-laudenbach.de
X-WR-CALDESC:Veranstaltungen für AWO Laudenbach e.V.
REFRESH-INTERVAL;VALUE=DURATION:PT1H
X-Robots-Tag:noindex
X-PUBLISHED-TTL:PT1H
BEGIN:VTIMEZONE
TZID:Europe/Berlin
BEGIN:DAYLIGHT
TZOFFSETFROM:+0100
TZOFFSETTO:+0200
TZNAME:CEST
DTSTART:20220327T010000
END:DAYLIGHT
BEGIN:STANDARD
TZOFFSETFROM:+0200
TZOFFSETTO:+0100
TZNAME:CET
DTSTART:20221030T010000
END:STANDARD
BEGIN:DAYLIGHT
TZOFFSETFROM:+0100
TZOFFSETTO:+0200
TZNAME:CEST
DTSTART:20230326T010000
END:DAYLIGHT
BEGIN:STANDARD
TZOFFSETFROM:+0200
TZOFFSETTO:+0100
TZNAME:CET
DTSTART:20231029T010000
END:STANDARD
BEGIN:DAYLIGHT
TZOFFSETFROM:+0100
TZOFFSETTO:+0200
TZNAME:CEST
DTSTART:20240331T010000
END:DAYLIGHT
BEGIN:STANDARD
TZOFFSETFROM:+0200
TZOFFSETTO:+0100
TZNAME:CET
DTSTART:20241027T010000
END:STANDARD
END:VTIMEZONE
BEGIN:VEVENT
DTSTART;TZID=Europe/Berlin:20230622T140000
DTEND;TZID=Europe/Berlin:20230622T160000
DTSTAMP:20260424T201754
CREATED:20221209T190900Z
LAST-MODIFIED:20230121T173950Z
UID:4809-1687442400-1687449600@www.awo-laudenbach.de
SUMMARY:AWO Seniorentreff
DESCRIPTION:Der Ortsverein der Arbeiterwohlfahrt lädt seinem nächsten offenen Seniorentreff in das Georg-Bickel-Haus ein. Zunächst  wartet die beliebte Seniorengymnastik\, ehe Gastgeberin Helga Gumpert Kaffee und  Kuchen serviert. Mit zahlreichen Spielangeboten oder auch zwanglosen Gesprächen wird der weitere Nachmittag\, zu dem alle Senioren im Ort herzlich eingeladen sind\, gestaltet.  \n\n\n\nInteressierte bitten wir um Anmeldung bei Helga Gumpert\, Telefon 06201 – 44436.
URL:https://www.awo-laudenbach.de/event/awo-seniorentreff-5/
CATEGORIES:Seniorentreff
ATTACH;FMTTYPE=image/png:https://www.awo-laudenbach.de/wp-content/uploads/2020/12/AWO_Seniorentreff.png
END:VEVENT
END:VCALENDAR