BEGIN:VCALENDAR
VERSION:2.0
PRODID:-//AWO Laudenbach e.V. - ECPv6.15.20//NONSGML v1.0//EN
CALSCALE:GREGORIAN
METHOD:PUBLISH
X-ORIGINAL-URL:https://www.awo-laudenbach.de
X-WR-CALDESC:Veranstaltungen für AWO Laudenbach e.V.
REFRESH-INTERVAL;VALUE=DURATION:PT1H
X-Robots-Tag:noindex
X-PUBLISHED-TTL:PT1H
BEGIN:VTIMEZONE
TZID:Europe/Berlin
BEGIN:DAYLIGHT
TZOFFSETFROM:+0100
TZOFFSETTO:+0200
TZNAME:CEST
DTSTART:20220327T010000
END:DAYLIGHT
BEGIN:STANDARD
TZOFFSETFROM:+0200
TZOFFSETTO:+0100
TZNAME:CET
DTSTART:20221030T010000
END:STANDARD
BEGIN:DAYLIGHT
TZOFFSETFROM:+0100
TZOFFSETTO:+0200
TZNAME:CEST
DTSTART:20230326T010000
END:DAYLIGHT
BEGIN:STANDARD
TZOFFSETFROM:+0200
TZOFFSETTO:+0100
TZNAME:CET
DTSTART:20231029T010000
END:STANDARD
BEGIN:DAYLIGHT
TZOFFSETFROM:+0100
TZOFFSETTO:+0200
TZNAME:CEST
DTSTART:20240331T010000
END:DAYLIGHT
BEGIN:STANDARD
TZOFFSETFROM:+0200
TZOFFSETTO:+0100
TZNAME:CET
DTSTART:20241027T010000
END:STANDARD
END:VTIMEZONE
BEGIN:VEVENT
DTSTART;TZID=Europe/Berlin:20230117T100000
DTEND;TZID=Europe/Berlin:20230117T130000
DTSTAMP:20260425T044848
CREATED:20221209T193800Z
LAST-MODIFIED:20221209T193804Z
UID:4846-1673949600-1673960400@www.awo-laudenbach.de
SUMMARY:AWO-Frühstück
DESCRIPTION:Liebe Frühstücksfreunde der AWO. \n\n\n\nWir freuen uns\, Sie zum traditionellen „Frühstück unter Freunden“ einzuladen. \n\n\n\nDas Buffet ist gerichtet und bietet Ihnen wieder viele Leckereien und Spezialitäten. Die fleißigen Helferinnen und Helfer servieren Ihnen auch besondere Schmankerl. Es ist für jeden Geschmack etwas dabei. Treffen Sie sich mit Freunden und verbringen Sie einen schönen Vormittag in geselliger Runde. Wir freuen uns auf Ihren Besuch. \n\n\n\nEs geht bei dieser Veranstaltung nicht nur um das leibliche Wohl\, sondern auch um das gesellige Miteinander. Das Angebot richtet sich wie auch die „offenen Seniorentreffs“ nicht nur an AWO-Mitglieder\, sondern an die gesamte Einwohnerschaft.
URL:https://www.awo-laudenbach.de/event/awo-fruehstueck-24/
LOCATION:Georg-Bickel-Haus\, Weimarer Straße 3\, Laudenbach\, 69514\, Deutschland
CATEGORIES:AWO Frühstück
ATTACH;FMTTYPE=image/png:https://www.awo-laudenbach.de/wp-content/uploads/2020/12/AWO_Fruehstueck.png
END:VEVENT
BEGIN:VEVENT
DTSTART;TZID=Europe/Berlin:20230126T140000
DTEND;TZID=Europe/Berlin:20230126T170000
DTSTAMP:20260425T044848
CREATED:20221209T193721Z
LAST-MODIFIED:20230121T172341Z
UID:4844-1674741600-1674752400@www.awo-laudenbach.de
SUMMARY:AWO-Seniorentreff
DESCRIPTION:Mit dem Leitsatz „Donnerstag ist AWO-Tag“ lädt der Ortsverein der Arbeiterwohlfahrt zum offenen Seniorentreff in das Georg-Bickel-Haus ein. Nach der traditionellen Seniorengymnastik serviert Gastgeberin Helga Gumpert wie gewohnt Kaffee und Kuchen. Mit zahlreichen Spielangeboten oder auch zwanglosen Gesprächen wird der Nachmittag\, zu dem alle Senioren im Ort willkommen sind\, gestaltet. Zur besseren Vorbereitung wird um Anmeldung bei Helga Gumpert\, Telefon 06201-44436\, gebeten. \n\n\n\n\nKontakt\n\n\n\nHelga Gumpert 06201-44436
URL:https://www.awo-laudenbach.de/event/awo-seniorentreff-9/
LOCATION:Georg-Bickel-Haus\, Weimarer Straße 3\, Laudenbach\, 69514\, Deutschland
CATEGORIES:Seniorentreff
ATTACH;FMTTYPE=image/png:https://www.awo-laudenbach.de/wp-content/uploads/2020/12/AWO_Seniorentreff.png
END:VEVENT
END:VCALENDAR