BEGIN:VCALENDAR
VERSION:2.0
PRODID:-//AWO Laudenbach e.V. - ECPv6.15.20//NONSGML v1.0//EN
CALSCALE:GREGORIAN
METHOD:PUBLISH
X-WR-CALNAME:AWO Laudenbach e.V.
X-ORIGINAL-URL:https://www.awo-laudenbach.de
X-WR-CALDESC:Veranstaltungen für AWO Laudenbach e.V.
REFRESH-INTERVAL;VALUE=DURATION:PT1H
X-Robots-Tag:noindex
X-PUBLISHED-TTL:PT1H
BEGIN:VTIMEZONE
TZID:Europe/Berlin
BEGIN:DAYLIGHT
TZOFFSETFROM:+0100
TZOFFSETTO:+0200
TZNAME:CEST
DTSTART:20210328T010000
END:DAYLIGHT
BEGIN:STANDARD
TZOFFSETFROM:+0200
TZOFFSETTO:+0100
TZNAME:CET
DTSTART:20211031T010000
END:STANDARD
BEGIN:DAYLIGHT
TZOFFSETFROM:+0100
TZOFFSETTO:+0200
TZNAME:CEST
DTSTART:20220327T010000
END:DAYLIGHT
BEGIN:STANDARD
TZOFFSETFROM:+0200
TZOFFSETTO:+0100
TZNAME:CET
DTSTART:20221030T010000
END:STANDARD
BEGIN:DAYLIGHT
TZOFFSETFROM:+0100
TZOFFSETTO:+0200
TZNAME:CEST
DTSTART:20230326T010000
END:DAYLIGHT
BEGIN:STANDARD
TZOFFSETFROM:+0200
TZOFFSETTO:+0100
TZNAME:CET
DTSTART:20231029T010000
END:STANDARD
END:VTIMEZONE
BEGIN:VEVENT
DTSTART;TZID=Europe/Berlin:20220705T090000
DTEND;TZID=Europe/Berlin:20220705T120000
DTSTAMP:20260425T161708
CREATED:20211010T092434Z
LAST-MODIFIED:20220418T084557Z
UID:3333-1657011600-1657022400@www.awo-laudenbach.de
SUMMARY:AWO-Frühstück
DESCRIPTION:Liebe Frühstücksfreunde der AWO. \n\n\n\nWir freuen uns\, Sie zum traditionellen „Frühstück unter Freunden“ einzuladen. \n\n\n\nDas Buffet ist gerichtet und bietet Ihnen wieder viele Leckereien und Spezialitäten. Die fleißigen Helferinnen und Helfer servieren Ihnen auch besondere Schmankerl. Es ist für jeden Geschmack etwas dabei. Treffen Sie sich mit Freunden und verbringen Sie einen schönen Vormittag in geselliger Runde. Wir freuen uns auf Ihren Besuch.  \n\n\n\nEs geht bei dieser Veranstaltung nicht nur um das leibliche Wohl\, sondern auch um das gesellige Miteinander. Das Angebot richtet sich wie auch die „offenen Seniorentreffs“ nicht nur an AWO-Mitglieder\, sondern an die gesamte Einwohnerschaft. \n\n\n\nAnmeldungen bitte an:Helga Gumpert\, Telefon 44436.Kosten pro Person: 10\,00 €
URL:https://www.awo-laudenbach.de/event/awo-fruehstueck-17/
LOCATION:Georg-Bickel-Haus\, Weimarer Straße 3\, Laudenbach\, 69514\, Deutschland
CATEGORIES:AWO Frühstück
ATTACH;FMTTYPE=image/png:https://www.awo-laudenbach.de/wp-content/uploads/2020/12/AWO_Fruehstueck.png
END:VEVENT
BEGIN:VEVENT
DTSTART;TZID=Europe/Berlin:20220721T140000
DTEND;TZID=Europe/Berlin:20220721T160000
DTSTAMP:20260425T161708
CREATED:20211010T092538Z
LAST-MODIFIED:20220104T073538Z
UID:3337-1658412000-1658419200@www.awo-laudenbach.de
SUMMARY:AWO-Seniorennachmittag
DESCRIPTION:Da die Teilnehmerzahl voraussichtlich begrenzt ist\, bittet unser Team um Helga Gumpertum Anmeldung. Telefon: 44 436. \n\n\n\nEs gelten die aktuellen Zugangsregeln entsprechend der Corona-Verordnung des Landes Baden-Württemberg (Lebensbereich „Öffentliche Veranstaltungen“). \n\n\n\n\nKontakt\n\n\n\nHelga Gumpert 06201-44436
URL:https://www.awo-laudenbach.de/event/awo-seniorennachmittag-17/
LOCATION:Georg-Bickel-Haus\, Weimarer Straße 3\, Laudenbach\, 69514\, Deutschland
CATEGORIES:Seniorentreff
ATTACH;FMTTYPE=image/png:https://www.awo-laudenbach.de/wp-content/uploads/2020/12/AWO_Seniorentreff.png
END:VEVENT
END:VCALENDAR