BEGIN:VCALENDAR
VERSION:2.0
PRODID:-//AWO Laudenbach e.V. - ECPv6.15.20//NONSGML v1.0//EN
CALSCALE:GREGORIAN
METHOD:PUBLISH
X-WR-CALNAME:AWO Laudenbach e.V.
X-ORIGINAL-URL:https://www.awo-laudenbach.de
X-WR-CALDESC:Veranstaltungen für AWO Laudenbach e.V.
REFRESH-INTERVAL;VALUE=DURATION:PT1H
X-Robots-Tag:noindex
X-PUBLISHED-TTL:PT1H
BEGIN:VTIMEZONE
TZID:Europe/Berlin
BEGIN:DAYLIGHT
TZOFFSETFROM:+0100
TZOFFSETTO:+0200
TZNAME:CEST
DTSTART:20210328T010000
END:DAYLIGHT
BEGIN:STANDARD
TZOFFSETFROM:+0200
TZOFFSETTO:+0100
TZNAME:CET
DTSTART:20211031T010000
END:STANDARD
BEGIN:DAYLIGHT
TZOFFSETFROM:+0100
TZOFFSETTO:+0200
TZNAME:CEST
DTSTART:20220327T010000
END:DAYLIGHT
BEGIN:STANDARD
TZOFFSETFROM:+0200
TZOFFSETTO:+0100
TZNAME:CET
DTSTART:20221030T010000
END:STANDARD
BEGIN:DAYLIGHT
TZOFFSETFROM:+0100
TZOFFSETTO:+0200
TZNAME:CEST
DTSTART:20230326T010000
END:DAYLIGHT
BEGIN:STANDARD
TZOFFSETFROM:+0200
TZOFFSETTO:+0100
TZNAME:CET
DTSTART:20231029T010000
END:STANDARD
END:VTIMEZONE
BEGIN:VEVENT
DTSTART;TZID=Europe/Berlin:20220113T150000
DTEND;TZID=Europe/Berlin:20220113T170000
DTSTAMP:20260426T031215
CREATED:20211009T092520Z
LAST-MODIFIED:20220103T173352Z
UID:3299-1642086000-1642093200@www.awo-laudenbach.de
SUMMARY:AWO-Seniorennachmittag ***Termin entfällt***
DESCRIPTION:Coronabedingt ist der Termin abgesagt. Wir bitten um Verständnis.
URL:https://www.awo-laudenbach.de/event/awo-seniorennachmittag-12/
LOCATION:Georg-Bickel-Haus\, Weimarer Straße 3\, Laudenbach\, 69514\, Deutschland
CATEGORIES:Seniorentreff
ATTACH;FMTTYPE=image/png:https://www.awo-laudenbach.de/wp-content/uploads/2021/10/AWO_Terminabsage.png
END:VEVENT
BEGIN:VEVENT
DTSTART;TZID=Europe/Berlin:20220118T100000
DTEND;TZID=Europe/Berlin:20220118T130000
DTSTAMP:20260426T031215
CREATED:20211009T092614Z
LAST-MODIFIED:20220103T173251Z
UID:3301-1642500000-1642510800@www.awo-laudenbach.de
SUMMARY:AWO-Frühstück ***Termin entfällt***
DESCRIPTION:Coronabedingt ist der Termin abgesagt. Wir bitten um Verständnis.
URL:https://www.awo-laudenbach.de/event/awo-fruehstueck-12/
LOCATION:Georg-Bickel-Haus\, Weimarer Straße 3\, Laudenbach\, 69514\, Deutschland
CATEGORIES:AWO Frühstück
ATTACH;FMTTYPE=image/png:https://www.awo-laudenbach.de/wp-content/uploads/2021/10/AWO_Terminabsage.png
END:VEVENT
END:VCALENDAR