BEGIN:VCALENDAR
VERSION:2.0
PRODID:-//AWO Laudenbach e.V. - ECPv6.15.20//NONSGML v1.0//EN
CALSCALE:GREGORIAN
METHOD:PUBLISH
X-WR-CALNAME:AWO Laudenbach e.V.
X-ORIGINAL-URL:https://www.awo-laudenbach.de
X-WR-CALDESC:Veranstaltungen für AWO Laudenbach e.V.
REFRESH-INTERVAL;VALUE=DURATION:PT1H
X-Robots-Tag:noindex
X-PUBLISHED-TTL:PT1H
BEGIN:VTIMEZONE
TZID:Europe/Berlin
BEGIN:DAYLIGHT
TZOFFSETFROM:+0100
TZOFFSETTO:+0200
TZNAME:CEST
DTSTART:20240331T010000
END:DAYLIGHT
BEGIN:STANDARD
TZOFFSETFROM:+0200
TZOFFSETTO:+0100
TZNAME:CET
DTSTART:20241027T010000
END:STANDARD
BEGIN:DAYLIGHT
TZOFFSETFROM:+0100
TZOFFSETTO:+0200
TZNAME:CEST
DTSTART:20250330T010000
END:DAYLIGHT
BEGIN:STANDARD
TZOFFSETFROM:+0200
TZOFFSETTO:+0100
TZNAME:CET
DTSTART:20251026T010000
END:STANDARD
BEGIN:DAYLIGHT
TZOFFSETFROM:+0100
TZOFFSETTO:+0200
TZNAME:CEST
DTSTART:20260329T010000
END:DAYLIGHT
BEGIN:STANDARD
TZOFFSETFROM:+0200
TZOFFSETTO:+0100
TZNAME:CET
DTSTART:20261025T010000
END:STANDARD
END:VTIMEZONE
BEGIN:VEVENT
DTSTART;TZID=Europe/Berlin:20251211T120000
DTEND;TZID=Europe/Berlin:20251211T190000
DTSTAMP:20260423T212507
CREATED:20241229T093338Z
LAST-MODIFIED:20241229T095649Z
UID:6420-1765454400-1765479600@www.awo-laudenbach.de
SUMMARY:AWO Halbtagesfahrt
DESCRIPTION:Der Ortsverein der Arbeiterwohlfahrt lädt zu einer seiner beliebten Halbtagsfahrten – zu Weihnachten mit geselligen Abschluss im Restaurant der Bergstraßenhalle – ein.
URL:https://www.awo-laudenbach.de/event/awo-halbtagesfahrt-12-2025/
LOCATION:Haltestelle Laudenbach (Bergstr) Nord\, Stettiner Straße\, Laudenbach\, 69514
CATEGORIES:AWO Halbtagesfahrt
ATTACH;FMTTYPE=image/png:https://www.awo-laudenbach.de/wp-content/uploads/2020/12/AWO_Halbtagesfahrt.png
END:VEVENT
END:VCALENDAR