BEGIN:VCALENDAR
VERSION:2.0
PRODID:-//AWO Laudenbach e.V. - ECPv6.15.20//NONSGML v1.0//EN
CALSCALE:GREGORIAN
METHOD:PUBLISH
X-WR-CALNAME:AWO Laudenbach e.V.
X-ORIGINAL-URL:https://www.awo-laudenbach.de
X-WR-CALDESC:Veranstaltungen für AWO Laudenbach e.V.
REFRESH-INTERVAL;VALUE=DURATION:PT1H
X-Robots-Tag:noindex
X-PUBLISHED-TTL:PT1H
BEGIN:VTIMEZONE
TZID:Europe/Berlin
BEGIN:DAYLIGHT
TZOFFSETFROM:+0100
TZOFFSETTO:+0200
TZNAME:CEST
DTSTART:20230326T010000
END:DAYLIGHT
BEGIN:STANDARD
TZOFFSETFROM:+0200
TZOFFSETTO:+0100
TZNAME:CET
DTSTART:20231029T010000
END:STANDARD
BEGIN:DAYLIGHT
TZOFFSETFROM:+0100
TZOFFSETTO:+0200
TZNAME:CEST
DTSTART:20240331T010000
END:DAYLIGHT
BEGIN:STANDARD
TZOFFSETFROM:+0200
TZOFFSETTO:+0100
TZNAME:CET
DTSTART:20241027T010000
END:STANDARD
BEGIN:DAYLIGHT
TZOFFSETFROM:+0100
TZOFFSETTO:+0200
TZNAME:CEST
DTSTART:20250330T010000
END:DAYLIGHT
BEGIN:STANDARD
TZOFFSETFROM:+0200
TZOFFSETTO:+0100
TZNAME:CET
DTSTART:20251026T010000
END:STANDARD
END:VTIMEZONE
BEGIN:VEVENT
DTSTART;TZID=Europe/Berlin:20240508T120000
DTEND;TZID=Europe/Berlin:20240508T120000
DTSTAMP:20260425T055611
CREATED:20231123T162604Z
LAST-MODIFIED:20231123T162606Z
UID:5906-1715169600-1715169600@www.awo-laudenbach.de
SUMMARY:AWO Halbtagesfahrt zum Muttertag
DESCRIPTION:Der Ortsverein der Arbeiterwohlfahrt lädt zu einer seiner beliebten Halbtagsfahrten ein.
URL:https://www.awo-laudenbach.de/event/awo-halbtagesfahrt-zum-muttertag-2/
CATEGORIES:AWO Halbtagesfahrt
ATTACH;FMTTYPE=image/png:https://www.awo-laudenbach.de/wp-content/uploads/2020/12/AWO_Halbtagesfahrt.png
END:VEVENT
END:VCALENDAR